BEGIN:VCALENDAR
VERSION:2.0
PRODID:-//Compañía de teatro Pawlikowska-Saghatelyan - ECPv6.0.10//NONSGML v1.0//EN
CALSCALE:GREGORIAN
METHOD:PUBLISH
X-ORIGINAL-URL:https://pawlikowska-saghatelyan.es
X-WR-CALDESC:Eventos para Compañía de teatro Pawlikowska-Saghatelyan
REFRESH-INTERVAL;VALUE=DURATION:PT1H
X-Robots-Tag:noindex
X-PUBLISHED-TTL:PT1H
BEGIN:VTIMEZONE
TZID:UTC
BEGIN:STANDARD
TZOFFSETFROM:+0000
TZOFFSETTO:+0000
TZNAME:UTC
DTSTART:20240101T000000
END:STANDARD
END:VTIMEZONE
BEGIN:VEVENT
DTSTART;TZID=UTC:20240420T193000
DTEND;TZID=UTC:20240420T210000
DTSTAMP:20260419T131537
CREATED:20240327T142625Z
LAST-MODIFIED:20240327T153832Z
UID:10000008-1713641400-1713646800@pawlikowska-saghatelyan.es
SUMMARY:Sant Esteve de Palautordera - IR
DESCRIPTION:
URL:https://pawlikowska-saghatelyan.es/evento/sant-esteve-de-palautordera-ir/
LOCATION:Les Escoles Velles\, Talula de Cultura\, Carrer Mossèn Pedragosa\, 9\, 13\, Sant Esteve de Palautordera\, Barcelona\, 08461
ATTACH;FMTTYPE=image/jpeg:https://pawlikowska-saghatelyan.es/wp-content/uploads/2024/03/WhatsApp-Image-2024-03-21-at-22.28.58-1.jpeg
END:VEVENT
END:VCALENDAR